BEGIN:VCALENDAR
VERSION:2.0
PRODID:-//Tukios.com/
BEGIN:VEVENT
UID:7438ef9a-e8cf-4b23-bb07-e31b9c704c50@www.vondelsmithmortuary.com
DTSTAMP:20260422T035211Z
DTSTART:20260422T190000Z
DTEND:20260422T230000Z
SUMMARY:Visitation
DESCRIPTION:
URL:https://www.vondelsmithmortuary.com/obituaries/tuy-nguyen
LOCATION: 4000 SW 119th St  Oklahoma City OK 73173
GEO:35.346651;-97.5890046
END:VEVENT
END:VCALENDAR