BEGIN:VCALENDAR
VERSION:2.0
PRODID:-//Tukios.com/
BEGIN:VEVENT
UID:aa26bb35-ba3c-4f10-a9c6-99940ad57520@www.vondelsmithmortuary.com
DTSTAMP:20260422T035515Z
DTSTART:20260422T210000Z
DTEND:20260422T220000Z
SUMMARY:Rosary
DESCRIPTION:
URL:https://www.vondelsmithmortuary.com/obituaries/tuy-nguyen
LOCATION: 4000 SW 119th St  Oklahoma City OK 73173
GEO:35.346651;-97.5890046
END:VEVENT
END:VCALENDAR