BEGIN:VCALENDAR
VERSION:2.0
PRODID:-//Tukios.com/
BEGIN:VEVENT
UID:ae35d228-c071-4280-bfc7-9cbc8f7932fb@www.vondelsmithmortuary.com
DTSTAMP:20260422T172018Z
DTSTART:20260424T150000Z
DTEND:20260424T160000Z
SUMMARY:Celebration of Life
DESCRIPTION:
URL:https://www.vondelsmithmortuary.com/obituaries/velma-donelson
LOCATION:Lyndale Edmond Senior Living Center 1225 Lakeshore Drive  Edmond 
	OK 73013
GEO:35.6360095;-97.5012742
END:VEVENT
END:VCALENDAR